BEGIN:VCALENDAR
VERSION:2.0
PRODID:-//Sabre//Sabre VObject 4.3.3//EN
CALSCALE:GREGORIAN
BEGIN:VEVENT
UID:tiki-1-53
DTSTAMP;TZID=Europe/Madrid:20251024T170144
SUMMARY:ASSEMBLEA GENERAL ORDINÀRIA de l’ASSOCIACIÓ D’ASSESSORS TRIBU
 TARIS I FISCALS
DTSTART;TZID=Europe/Madrid:20251127T183000
DTEND;TZID=Europe/Madrid:20251127T203000
DESCRIPTION:Benvolgut/da associat/da\,\\n\\nEt convoquem a l’ASSEMBLEA GE
 NERAL ORDINÀRIA de l’ASSOCIACIÓ D’ASSESSORS TRIBUTARIS I FISCALS que
  es celebrarà a l’Auditori de MORA BANC GRUP\, SA\, Sala -1 de la seu c
 entral\, radicat a l’Av. Meritxell\, número 96 d’Andorra la Vella\, e
 l 27 de novembre del 2025\, en seguiment de la conferència que anirà a c
 àrrec de l’advocat Mr. Romain GRAU\, del qual adjuntem el currículum i
  que tractarà de la fiscalitat francesa vista des d’Andorra: Darreres n
 otícies i punts de vigilància\, la qual tindrà lloc a les 18h30\, amb l
 ’ordre del dia següent:\\n\\n Aprovació de la memòria d’activitats 
 de l’any 2024.\\n Aprovació de l’estat de comptes de l’any 2024.\\n
  Proposta i aprovació del pressupost per l’any 2026.\\n Precs i pregunt
 es\\n\\nEn el supòsit que no puguis assistir-hi\, et recordo la possibili
 tat de delegar la teva representació i vot a un altre associat\, mitjanç
 ant simple poder escrit.\\n\\nEsperant poder comptar amb la teva assistèn
 cia\, aprofito l’avinentesa per a saludar-te ben cordialment\,
LAST-MODIFIED;TZID=Europe/Madrid:20251024T170144
CONTACT:admin
END:VEVENT
END:VCALENDAR
